BEGIN:VCALENDAR
VERSION:2.0
PRODID:-//HAMMER ART STUDIO - ECPv6.15.20//NONSGML v1.0//EN
CALSCALE:GREGORIAN
METHOD:PUBLISH
X-ORIGINAL-URL:https://hammerartstudio.com
X-WR-CALDESC:Events for HAMMER ART STUDIO
REFRESH-INTERVAL;VALUE=DURATION:PT1H
X-Robots-Tag:noindex
X-PUBLISHED-TTL:PT1H
BEGIN:VTIMEZONE
TZID:America/New_York
BEGIN:DAYLIGHT
TZOFFSETFROM:-0500
TZOFFSETTO:-0400
TZNAME:EDT
DTSTART:20140309T070000
END:DAYLIGHT
BEGIN:STANDARD
TZOFFSETFROM:-0400
TZOFFSETTO:-0500
TZNAME:EST
DTSTART:20141102T060000
END:STANDARD
BEGIN:DAYLIGHT
TZOFFSETFROM:-0500
TZOFFSETTO:-0400
TZNAME:EDT
DTSTART:20150308T070000
END:DAYLIGHT
BEGIN:STANDARD
TZOFFSETFROM:-0400
TZOFFSETTO:-0500
TZNAME:EST
DTSTART:20151101T060000
END:STANDARD
BEGIN:DAYLIGHT
TZOFFSETFROM:-0500
TZOFFSETTO:-0400
TZNAME:EDT
DTSTART:20160313T070000
END:DAYLIGHT
BEGIN:STANDARD
TZOFFSETFROM:-0400
TZOFFSETTO:-0500
TZNAME:EST
DTSTART:20161106T060000
END:STANDARD
END:VTIMEZONE
BEGIN:VEVENT
DTSTART;TZID=America/New_York:20151219T100000
DTEND;TZID=America/New_York:20151219T160000
DTSTAMP:20260421T061318
CREATED:20151218T145651Z
LAST-MODIFIED:20151218T145651Z
UID:582-1450519200-1450540800@hammerartstudio.com
SUMMARY:Drawing to a Close Final Reception
DESCRIPTION:As a way of showing their appreciation \, the owners of Weavings\, INK will be holding a wine and cheese reception from 10-4 on Saturday\, December 19th. They are also offering a 10% discount on most work in the Holiday Gift Show. A retrospective of the many group and solo shows that they have held will decorate the walls of the gallery and a scrapbook of the many articles and artworks will be on hand.   I will be offering a special giveaway to the first twelve patrons\, A Belsnickel Good Rule. 
URL:https://hammerartstudio.com/event/drawing-to-a-close-final-reception/
LOCATION:Weavings\, INK Art Gallery\, 208 Hellam St.\, Wrightsville\, PA\, 17368\, United States
ATTACH;FMTTYPE=image/jpeg:https://hammerartstudio.com/wp-content/uploads/2015/12/drawing-to-a-close.jpg
GEO:40.0257044;-76.5304108
X-APPLE-STRUCTURED-LOCATION;VALUE=URI;X-ADDRESS=Weavings INK Art Gallery 208 Hellam St. Wrightsville PA 17368 United States;X-APPLE-RADIUS=500;X-TITLE=208 Hellam St.:geo:-76.5304108,40.0257044
END:VEVENT
BEGIN:VEVENT
DTSTART;TZID=America/New_York:20151127T170000
DTEND;TZID=America/New_York:20151127T200000
DTSTAMP:20260421T061318
CREATED:20151118T220658Z
LAST-MODIFIED:20151120T195316Z
UID:529-1448643600-1448654400@hammerartstudio.com
SUMMARY:November Fourth Friday Art Reception / 2016 Year of the Monkey Calendar Launch
DESCRIPTION:Celebrate the holiday season with a visit to the annual Holiday Gift Show at Weavings\, INK.  This unique show features work from local and regional artists.  The items available for purchase include jewelry\, weavings\, robots\, stained and painted glass\, pots\, prints\, calendars\, and much more.  This event is FREE and open to the public.  Light refreshments will be served.
URL:https://hammerartstudio.com/event/november-fourth-friday-art-reception/
LOCATION:Weavings\, INK Art Gallery\, 208 Hellam St.\, Wrightsville\, PA\, 17368\, United States
ATTACH;FMTTYPE=image/jpeg:https://hammerartstudio.com/wp-content/uploads/2015/11/facebook-cover.jpg
GEO:40.0257044;-76.5304108
X-APPLE-STRUCTURED-LOCATION;VALUE=URI;X-ADDRESS=Weavings INK Art Gallery 208 Hellam St. Wrightsville PA 17368 United States;X-APPLE-RADIUS=500;X-TITLE=208 Hellam St.:geo:-76.5304108,40.0257044
END:VEVENT
BEGIN:VEVENT
DTSTART;TZID=America/New_York:20150828T170000
DTEND;TZID=America/New_York:20150828T200000
DTSTAMP:20260421T061318
CREATED:20150801T205023Z
LAST-MODIFIED:20150828T134459Z
UID:442-1440781200-1440792000@hammerartstudio.com
SUMMARY:INKMEN8: Five Shades of Gray >> Fourth Friday Reception
DESCRIPTION:INKMEN8: Five Shades of Gray \nThis “5 shades of gray” exhibit is meant to spotlight the idea that pen and ink work is more than just black and white. A variety of shades can be produced applying cross hatching or dots of ink to an area. Some of the art displayed literally includes a representation of a shade as a window treatment or another depicts a ghostly presence. \nThe INKMEN represented here are:\nDave Haneman from Marietta\nRobert Oughton from Hellam\nDale Weibley from Columbia\nRobert Hammer from Wrightsville \nThe reception is FREE and open to the public and refreshments will be served.
URL:https://hammerartstudio.com/event/inkmen8-five-shades-of-gray-fourth-friday-reception/
LOCATION:Weavings\, INK Art Gallery\, 208 Hellam St.\, Wrightsville\, PA\, 17368\, United States
CATEGORIES:Fourth Friday
ATTACH;FMTTYPE=image/jpeg:https://hammerartstudio.com/wp-content/uploads/2015/07/5shadeswebsiteimage.jpg
GEO:40.0257044;-76.5304108
X-APPLE-STRUCTURED-LOCATION;VALUE=URI;X-ADDRESS=Weavings INK Art Gallery 208 Hellam St. Wrightsville PA 17368 United States;X-APPLE-RADIUS=500;X-TITLE=208 Hellam St.:geo:-76.5304108,40.0257044
END:VEVENT
BEGIN:VEVENT
DTSTART;TZID=America/New_York:20150808T130000
DTEND;TZID=America/New_York:20150808T160000
DTSTAMP:20260421T061318
CREATED:20150716T014417Z
LAST-MODIFIED:20150726T190758Z
UID:419-1439038800-1439049600@hammerartstudio.com
SUMMARY:INKMEN8: Five Shades of Gray >>Opening Reception
DESCRIPTION:INKMEN8: Five Shades of Gray \nfeaturing local pen and ink artists: \n\nDave Haneman\, Marietta\nChuck Long\, York\nRobert Oughton\, Hellam\nDale Weibley\, Columbia\nRobert Hammer\, Wrightsville
URL:https://hammerartstudio.com/event/inkmen8-five-shades-of-gray/
LOCATION:Weavings\, INK Art Gallery\, 208 Hellam St.\, Wrightsville\, PA\, 17368\, United States
ATTACH;FMTTYPE=image/jpeg:https://hammerartstudio.com/wp-content/uploads/2015/07/5shadeswebsiteimage.jpg
GEO:40.0257044;-76.5304108
X-APPLE-STRUCTURED-LOCATION;VALUE=URI;X-ADDRESS=Weavings INK Art Gallery 208 Hellam St. Wrightsville PA 17368 United States;X-APPLE-RADIUS=500;X-TITLE=208 Hellam St.:geo:-76.5304108,40.0257044
END:VEVENT
END:VCALENDAR